BEGIN:VCALENDAR
VERSION:2.0
PRODID:-//ddaysoftware.com//NONSGML DDay.iCal 1.0//EN
BEGIN:VTIMEZONE
TZID:W. Europe Standard Time
BEGIN:STANDARD
DTSTART:20251002T030000
RRULE:FREQ=YEARLY;BYDAY=-1SU;BYHOUR=3;BYMINUTE=0;BYMONTH=10
TZNAME:W. Europe Standard Time
TZOFFSETFROM:+0200
TZOFFSETTO:+0100
END:STANDARD
BEGIN:DAYLIGHT
DTSTART:20250301T020000
RRULE:FREQ=YEARLY;BYDAY=-1SU;BYHOUR=2;BYMINUTE=0;BYMONTH=3
TZNAME:W. Europe Daylight Time
TZOFFSETFROM:+0100
TZOFFSETTO:+0200
END:DAYLIGHT
END:VTIMEZONE
BEGIN:VEVENT
CATEGORIES:Volksmusik
CATEGORIES:Offenes Singen
CATEGORIES:Geistliche Musik
CATEGORIES:Kultur
CATEGORIES:Heimat
DESCRIPTION:\n\nVeranstalter: Beratungsstelle für Volksmusik\n\nhttps://vol
 ksmusik.bezirk-schwaben.de/veranstaltungen-kurse/alle-termine/freu-dich-du
 -himmelskoenigin-geistliche-volkslieder-zum-mitsingen
DTEND:20260503T200000
DTSTAMP:20260421T124607Z
DTSTART:20260503T190000
LOCATION:Frauenkirche Ehingen: Hauptstraße 12\, 86678 Ehingen
SEQUENCE:0
SUMMARY:Freu dich\, du Himmelskönigin - Geistliche Volkslieder zum Mitsinge
 n
UID:57284
URL:https://volksmusik.bezirk-schwaben.de/veranstaltungen-kurse/alle-termin
 e/freu-dich-du-himmelskoenigin-geistliche-volkslieder-zum-mitsingen
END:VEVENT
END:VCALENDAR
